BEGIN:VCALENDAR
VERSION:2.0
PRODID:-//AGoodSite - ECPv6.8.0//NONSGML v1.0//EN
CALSCALE:GREGORIAN
METHOD:PUBLISH
X-WR-CALNAME:AGoodSite
X-ORIGINAL-URL:https://elementor.agoodsite.se
X-WR-CALDESC:Events for AGoodSite
REFRESH-INTERVAL;VALUE=DURATION:PT1H
X-Robots-Tag:noindex
X-PUBLISHED-TTL:PT1H
BEGIN:VTIMEZONE
TZID:Europe/Stockholm
BEGIN:DAYLIGHT
TZOFFSETFROM:+0100
TZOFFSETTO:+0200
TZNAME:CEST
DTSTART:20240331T010000
END:DAYLIGHT
BEGIN:STANDARD
TZOFFSETFROM:+0200
TZOFFSETTO:+0100
TZNAME:CET
DTSTART:20241027T010000
END:STANDARD
END:VTIMEZONE
BEGIN:VEVENT
DTSTART;VALUE=DATE:20241112
DTEND;VALUE=DATE:20241116
DTSTAMP:20260424T005352
CREATED:20241030T144818Z
LAST-MODIFIED:20241030T145837Z
UID:371-1731369600-1731715199@elementor.agoodsite.se
SUMMARY:Testevenemang
DESCRIPTION:« All Events\n 		\n				\n				\n				\n			This event has passed. \n		\n				\n				\n				\n			\n	Testevenemang		\n				\n				\n				\n			\n		\n			November 12\n\n		\n	\n	 - \n\n\n	November 15\n\n	\n		\n				\n				\n				\n			\n	\n		\n				\n				\n				\n					\n						\n						\n					\n			\n						\n				\n			\n	« All Events\n 		\n				\n				\n				\n			This event has passed. \n		\n				\n				\n				\n			\n	Testevenemang		\n				\n				\n				\n			\n		\n			November 12\n\n		\n	\n	 - \n\n\n	November 15\n\n	\n		\n				\n				\n				\n			\n	\n		\n				\n				\n						\n					\n			\n							\n		\n				\n			\n							\n		\n					\n		\n				\n						\n					\n			\n							\n		\n					\n		\n				\n						\n					\n			\n						\n				\n			\n	\n		\n\n	\n	Add to calendar	\n		\n	\n\n		\n			\n									\n	Google Calendar\n\n									\n	iCalendar\n\n									\n	Outlook 365\n\n									\n	Outlook Live\n\n							\n		\n\n		\n	\n\n		\n				\n					\n		\n					\n		\n				\n						\n					\n			\n						\n				\n			\n	\n		\n		\n	\n		En viktig händelse			\n\n	\n\n		\n				\n					\n		\n					\n		\n					\n		\n					\n		\n				\n				\n				\n				\n						\n					\n			\n							\n		\n				\n			\n							\n		\n					\n		\n				\n						\n					\n			\n							\n		\n					\n		\n				\n						\n					\n			\n						\n				\n			\n	\n		\n\n	\n	Add to calendar	\n		\n	\n\n		\n			\n									\n	Google Calendar\n\n									\n	iCalendar\n\n									\n	Outlook 365\n\n									\n	Outlook Live\n\n							\n		\n\n		\n	\n\n		\n				\n					\n		\n					\n		\n				\n						\n					\n			\n						\n				\n			\n	\n		\n		\n	\n		En viktig händelse
URL:https://elementor.agoodsite.se/event/testevenemang/
ATTACH;FMTTYPE=image/webp:https://elementor.agoodsite.se/wp-content/uploads/2024/10/78a265wpio4.webp
END:VEVENT
END:VCALENDAR